BEGIN:VCALENDAR
VERSION:2.0
PRODID:-//ChamberMaster//Event Calendar 2.0//EN
METHOD:PUBLISH
X-PUBLISHED-TTL:P3D
REFRESH-INTERVAL:P3D
CALSCALE:GREGORIAN
BEGIN:VEVENT
DTSTART:20141017T163000Z
DTEND:20141017T180000Z
X-MICROSOFT-CDO-ALLDAYEVENT:FALSE
SUMMARY:Congressional Forum October 2014
DESCRIPTION:Join Congressman Kevin Yoder as he shares information about current federal legislation being discussed and engage in the public policy issues important to you and the country.\n\n\n\nCongressional Forum is sponsored and administered by the\n\nKCK Chamber of Commerce. It is a separate event from other Chamber programs and has an additional fee for membership. For information about Congressional Forum\, please contact Greg Kindle or visit Congressional Forum on the KCK Chamber website.
X-ALT-DESC;FMTTYPE=text/html:Join Congressman Kevin Yoder as he shares information about current federal legislation being discussed and engage in the public policy issues important to you and the country.<br />\n<br />\nCongressional Forum is sponsored and administered by the<br />\nKCK Chamber of Commerce. It is a separate event&nbsp\;from other Chamber programs and has an additional fee&nbsp\;for membership. For information about Congressional Forum\, please contact Greg Kindle or visit <a href="http://www.kckchamber.com/workingtogether/wp-content/uploads/2014/04/Congressional-Forum-Info-Sheet-April-8-2014.pdf">Congressional Forum </a>on the KCK Chamber website.<br />\n<br />\n&nbsp\;
LOCATION:Reardon Convention Center
UID:e.1213.166
SEQUENCE:3
DTSTAMP:20260423T203726Z
URL:https://business.kckchamber.com/events/details/congressional-forum-october-2014-10-17-2014-166
END:VEVENT

END:VCALENDAR
