BEGIN:VCALENDAR
VERSION:2.0
PRODID:-//ChamberMaster//Event Calendar 2.0//EN
METHOD:PUBLISH
X-PUBLISHED-TTL:P3D
REFRESH-INTERVAL:P3D
CALSCALE:GREGORIAN
BEGIN:VEVENT
DTSTART:20140919T163000Z
DTEND:20140919T180000Z
X-MICROSOFT-CDO-ALLDAYEVENT:FALSE
SUMMARY:Congressional Forum September 2014
DESCRIPTION:Nick Jordan\, Kansas Secretary of Revenue\, is joining us at Congressional Forum this month. The Kansas Department of Revenue (KDOR) is responsible for the collection of taxes as well as valuing property\, the wholesale distribution of alcoholic beverages and enforcement of liquor laws.  KDOR oversees the administration of motor vehicle registrations\, issues motor vehicle title and registration records\, licenses and monitors Kansas vehicle dealers.  Secretary Jordan is a lifelong Kansan with a 30-year career in the travel and tourism industry. He is a former State Senator representing the Shawnee area.\n\n\n\nCongressional Forum is sponsored and administered by the \n\nKCK Chamber of Commerce. It is a separate event from other Chamber programs and has an additional fee for membership. For information about Congressional Forum\, please contact Greg Kindle or visit Congressional Forum on the KCK Chamber website.
X-ALT-DESC;FMTTYPE=text/html:<span style="font-size:14px\;"><span style="font-family:arial\;"><span style="color:#000000\;">Nick Jordan\, Kansas Secretary of Revenue\, is joining us at Congressional Forum this month. The Kansas Department of Revenue (KDOR) is responsible for the collection of taxes as well as valuing property\, the wholesale distribution of alcoholic beverages and enforcement of liquor laws.&nbsp\; KDOR oversees the administration of motor vehicle registrations\, issues motor vehicle title and registration records\, licenses and monitors Kansas vehicle dealers.&nbsp\; Secretary Jordan is a lifelong Kansan with a 30-year career in the travel and tourism industry. He is a former State Senator representing the Shawnee area.</span></span><br />\n<br />\n<span style="font-family:arial\;"><span style="color:#000000\;">Congressional Forum is sponsored and administered by the&nbsp\;<br />\nKCK Chamber of Commerce. It is a separate event&nbsp\;from other Chamber programs and has an additional fee&nbsp\;for membership. For information about Congressional Forum\, please contact Greg Kindle or visit </span><a href="http://www.kckchamber.com/workingtogether/wp-content/uploads/2014/04/Congressional-Forum-Info-Sheet-April-8-2014.pdf"><span style="color:#000000\;">Congressional Forum </span></a><span style="color:#000000\;">on the KCK Chamber website.</span></span></span><br />\n<br />\n&nbsp\;
LOCATION:Reardon Convention Center
UID:e.1213.165
SEQUENCE:3
DTSTAMP:20260423T220537Z
URL:https://business.kckchamber.com/events/details/congressional-forum-september-2014-09-19-2014-165
END:VEVENT

END:VCALENDAR
