BEGIN:VCALENDAR
VERSION:2.0
PRODID:-//ChamberMaster//Event Calendar 2.0//EN
METHOD:PUBLISH
X-PUBLISHED-TTL:P3D
REFRESH-INTERVAL:P3D
CALSCALE:GREGORIAN
BEGIN:VEVENT
DTSTART;VALUE=DATE:20120713
DTEND;VALUE=DATE:20120714
TRANSP:TRANSPARENT
X-MICROSOFT-CDO-ALLDAYEVENT:TRUE
SUMMARY:Connecting Kansas City
DESCRIPTION:Celebrate the opening of the 727 Minnesota Building - the newly renovated home of the KCK Chamber\, Wyandotte Economic Development Council and the KCK Chamber Foundation.
X-ALT-DESC;FMTTYPE=text/html:<p>\n	Celebrate the opening of the 727 Minnesota Building - the newly renovated home of the KCK Chamber\, Wyandotte Economic Development Council and the KCK Chamber Foundation.</p>\n
LOCATION:KCK Chamber office 727 Minnesota
UID:e.1213.41
SEQUENCE:3
DTSTAMP:20260425T131405Z
URL:https://business.kckchamber.com/events/details/connecting-kansas-city-07-13-2012-41
END:VEVENT

END:VCALENDAR
