BEGIN:VCALENDAR
VERSION:2.0
PRODID:-//ChamberMaster//Event Calendar 2.0//EN
METHOD:PUBLISH
X-PUBLISHED-TTL:P3D
REFRESH-INTERVAL:P3D
CALSCALE:GREGORIAN
BEGIN:VEVENT
DTSTART:20140430T143000Z
DTEND:20140430T163000Z
X-MICROSOFT-CDO-ALLDAYEVENT:FALSE
SUMMARY:Connecting the Dots with LinkedIn
DESCRIPTION:Linkedin is the professional's way to make connections. In this seminar we'll cover how to get started with Linkedin for both a personal profile and a company profile. Then we'll get into some best practices for Linkedin and some ideas on how you can mine this resource to add customers to your job list as well as recruit employees and more.\n\n\n\nKimberly Beer\, Midnight Productions\, is the presenter.\n\n\n\nhttp://events.r20.constantcontact.com/register/event?oeidk=a07e8tss8itbd81ddcf&llr=zotg6ojab
X-ALT-DESC;FMTTYPE=text/html:<span style="font-family: arial"><span style="font-size: 12px"><span title="">Linkedin is the professional&#39\;s way to make connections.&nbsp\;In this seminar we&#39\;ll cover how to get started with Linkedin for both a personal profile and a company profile. Then we&#39\;ll get into some best practices for Linkedin and some ideas on how you can mine this resource to add customers to your job list as well as recruit employees and more.<br />\n<br />\nKimberly Beer\, Midnight Productions\, is the presenter.</span></span><br />\n<br />\n<a href="http://events.r20.constantcontact.com/register/event?oeidk=a07e8tss8itbd81ddcf&amp\;llr=zotg6ojab">http://events.r20.constantcontact.com/register/event?oeidk=a07e8tss8itbd81ddcf&amp\;llr=zotg6ojab</a></span>
LOCATION:KCK Chamber of Commerce 727 Minnesota Kansas City\, Kansas 66101
UID:e.1213.160
SEQUENCE:3
DTSTAMP:20260424T053054Z
URL:https://business.kckchamber.com/events/details/connecting-the-dots-with-linkedin-04-30-2014-160
END:VEVENT

END:VCALENDAR
