BEGIN:VCALENDAR
VERSION:2.0
PRODID:-//ChamberMaster//Event Calendar 2.0//EN
METHOD:PUBLISH
X-PUBLISHED-TTL:P3D
REFRESH-INTERVAL:P3D
CALSCALE:GREGORIAN
BEGIN:VEVENT
DTSTART:20130308T140000Z
DTEND:20130308T153000Z
X-MICROSOFT-CDO-ALLDAYEVENT:FALSE
SUMMARY:Creating a Global Perspective for Entrepreneurs - Business Solution Series 2013
DESCRIPTION:NOTE: This is the re-scheduled date for the Feb. 26 workshop.\n\n\n\nWhy can't your business be a global one? Come learn about global intelligence and techniques for your business to become globally competitive.\n\n\n\nThis workshop is part of the 2013 Business Solution Series\, networking breakfasts to support the Kansas City business community with its changing economic and industry needs.
X-ALT-DESC;FMTTYPE=text/html:<strong>NOTE: This is the re-scheduled date for the Feb. 26 workshop.</strong><br />\n<br />\nWhy can&#39\;t your business be a global one? Come learn about global intelligence and techniques for your business to become globally competitive.<br />\n<br />\nThis workshop is part of the 2013&nbsp\;Business Solution Series\, networking breakfasts to support the Kansas City business community with its changing economic and industry needs.&nbsp\;<span _fck_bookmark="1" style="display: none">&nbsp\;</span>
LOCATION:Kansas City Kansas Community College Flint Building\, 3632 7250 State Ave. Kansas City\, Kan.
UID:e.1213.53
SEQUENCE:3
DTSTAMP:20260425T021842Z
URL:https://business.kckchamber.com/events/details/creating-a-global-perspective-for-entrepreneurs-business-solution-series-2013-03-08-2013-53
END:VEVENT

END:VCALENDAR
