BEGIN:VCALENDAR
VERSION:2.0
PRODID:-//ChamberMaster//Event Calendar 2.0//EN
METHOD:PUBLISH
X-PUBLISHED-TTL:P3D
REFRESH-INTERVAL:P3D
CALSCALE:GREGORIAN
BEGIN:VEVENT
DTSTART:20200709T220000Z
DTEND:20200709T230000Z
X-MICROSOFT-CDO-ALLDAYEVENT:FALSE
SUMMARY:Demdaco Open House
DESCRIPTION:Join us for a KCK Chamber ribbon cutting and open house welcoming new member\, DEMDACO to the Legends Outlets!
X-ALT-DESC;FMTTYPE=text/html:Join us for a KCK Chamber ribbon cutting and open house welcoming new member\, DEMDACO to the Legends Outlets!
LOCATION:1843 Village West Pkwy\, Kansas City\, Kansas 66111
UID:e.1213.1964
SEQUENCE:3
DTSTAMP:20260419T161223Z
URL:https://business.kckchamber.com/events/details/demdaco-open-house-1964
END:VEVENT

END:VCALENDAR
