BEGIN:VCALENDAR
VERSION:2.0
PRODID:-//ChamberMaster//Event Calendar 2.0//EN
METHOD:PUBLISH
X-PUBLISHED-TTL:P3D
REFRESH-INTERVAL:P3D
CALSCALE:GREGORIAN
BEGIN:VEVENT
DTSTART:20141205T220000Z
DTEND:20141206T013000Z
X-MICROSOFT-CDO-ALLDAYEVENT:FALSE
SUMMARY:Downtown Holiday Lighting Festival 2014
DESCRIPTION:The 10th Annual Downtown Holiday Lighting Festival will be Friday\, Dec. 5. Activities will start at 4:00 p.m. in and around the first floor of the Unified Government Office Building at 7th and Barnett. Activities will include the neighborhood group Christmas tree decorating contest\, entertainment by local school and community groups\, holiday characters\, visits with Santa and Mrs. Santa Claus\, classic holiday movies in commission chambers and a hot air balloon night glow (weather permitting). The evening ends with the lighting of the Mayor's Downtown Tree at 7:00 p.m. with Mayor Holland\, Commissioners and other elected officials.
X-ALT-DESC;FMTTYPE=text/html:The 10th Annual Downtown Holiday Lighting Festival will be Friday\, Dec. 5. Activities will start at 4:00 p.m. in and around the first floor of the Unified Government Office Building at 7th and Barnett. Activities will include the neighborhood group Christmas tree decorating contest\, entertainment by local school and community groups\, holiday characters\, visits with Santa and Mrs. Santa Claus\, classic holiday movies in commission chambers and a hot air balloon&nbsp\;night glow (weather permitting). The evening ends with the lighting of the Mayor&#39\;s Downtown Tree at 7:00 p.m. with Mayor Holland\, Commissioners and other elected officials.
LOCATION:Unified Government Office Building 7th & Barnett Kansas City\, Kansas
UID:e.1213.203
SEQUENCE:3
DTSTAMP:20260423T190025Z
URL:https://business.kckchamber.com/events/details/downtown-holiday-lighting-festival-2014-12-05-2014-203
END:VEVENT

END:VCALENDAR
