BEGIN:VCALENDAR
VERSION:2.0
PRODID:-//ChamberMaster//Event Calendar 2.0//EN
METHOD:PUBLISH
X-PUBLISHED-TTL:P3D
REFRESH-INTERVAL:P3D
CALSCALE:GREGORIAN
BEGIN:VEVENT
DTSTART:20170720T210000Z
DTEND:20170720T230000Z
X-MICROSOFT-CDO-ALLDAYEVENT:FALSE
SUMMARY:Eat Fit Go Ribbon Cutting
DESCRIPTION:Join us as we cut the ribbon at the new KCK Chamber Member\, Eat Fit Go location in Westwood\, Kansas!
X-ALT-DESC;FMTTYPE=text/html:Join us as we cut the ribbon at the new KCK Chamber Member\, Eat Fit Go location in Westwood\, Kansas!&nbsp\;&nbsp\;&nbsp\;&nbsp\;&nbsp\;&nbsp\;&nbsp\;&nbsp\;&nbsp\;
LOCATION:4711 Rainbow Blvd. Westwood\, KS 66205
UID:e.1213.1515
SEQUENCE:3
DTSTAMP:20260419T145538Z
URL:https://business.kckchamber.com/events/details/eat-fit-go-ribbon-cutting-1515
END:VEVENT

END:VCALENDAR
