BEGIN:VCALENDAR
VERSION:2.0
PRODID:-//ChamberMaster//Event Calendar 2.0//EN
METHOD:PUBLISH
X-PUBLISHED-TTL:P3D
REFRESH-INTERVAL:P3D
CALSCALE:GREGORIAN
BEGIN:VEVENT
DTSTART:20161213T170000Z
DTEND:20161213T180000Z
X-MICROSOFT-CDO-ALLDAYEVENT:FALSE
SUMMARY:El Padrino Ribbon Cutting
DESCRIPTION:Introducing the new El Padrino!\n\n\n\nThe KCK Chamber and the Greater Kansas City Hispanic Chamber Commerce invite you to the El Padrino Ribbon Cutting next Tuesday\, Dec. 13\, from 11 a.m. to 12 p.m./Noon.
X-ALT-DESC;FMTTYPE=text/html:Introducing the new El Padrino!<br />\n<br />\nThe KCK Chamber and the Greater Kansas City Hispanic Chamber Commerce invite you to the El Padrino Ribbon Cutting next Tuesday\, Dec. 13\, from 11 a.m. to 12 p.m./Noon.&nbsp\;&nbsp\;&nbsp\;&nbsp\;&nbsp\;&nbsp\;&nbsp\;&nbsp\;&nbsp\;&nbsp\;&nbsp\;&nbsp\;&nbsp\;&nbsp\;&nbsp\;&nbsp\;
LOCATION:El Padrino 708 Simpson Ave. Kansas City\, KS 66101
UID:e.1213.381
SEQUENCE:3
DTSTAMP:20260420T035927Z
URL:https://business.kckchamber.com/events/details/el-padrino-ribbon-cutting-381
END:VEVENT

END:VCALENDAR
