BEGIN:VCALENDAR
VERSION:2.0
PRODID:-//ChamberMaster//Event Calendar 2.0//EN
METHOD:PUBLISH
X-PUBLISHED-TTL:P3D
REFRESH-INTERVAL:P3D
CALSCALE:GREGORIAN
BEGIN:VEVENT
DTSTART:20170811T133000Z
DTEND:20170812T000000Z
X-MICROSOFT-CDO-ALLDAYEVENT:FALSE
SUMMARY:Entrepreneurial Innovation Center Presents the Business and Life Mastery Workshop
DESCRIPTION:The KCK Chamber is proud to partner with the Entrepreneurial Innovation Center for the upcoming 2nd Annual Business Life and Mastery Event. The workshop breaks down the strategies and success psychology needed to compete and win in any market. It provides a step-by-step success plan for reaching your most improtant personal\, professional and financial goals.\n\n\n\nSpeakers include Aaron Brauch (Anthony Robbins Platinum Partner/Trainer-Business Life Coach) and Dr. Ruben West (Speaker\, Published Author\, Success Coach and Trainer).
X-ALT-DESC;FMTTYPE=text/html:The KCK Chamber is proud to partner with the Entrepreneurial Innovation Center for the upcoming 2nd Annual Business Life and Mastery Event. The workshop breaks down the strategies and success psychology needed to compete and win in any market. It provides a step-by-step success plan for reaching your most improtant personal\, professional and financial goals.<br />\n<br />\nSpeakers include Aaron Brauch (Anthony Robbins Platinum Partner/Trainer-Business Life Coach) and Dr. Ruben West (Speaker\, Published Author\, Success Coach and Trainer).
LOCATION:Kansas City Kansas Community College Technical Education Center 6565 State Ave. Kansas City\, KS 66102
UID:e.1213.1521
SEQUENCE:3
DTSTAMP:20260419T150040Z
URL:https://business.kckchamber.com/events/details/entrepreneurial-innovation-center-presents-the-business-and-life-mastery-workshop-1521
END:VEVENT

END:VCALENDAR
