BEGIN:VCALENDAR
VERSION:2.0
PRODID:-//ChamberMaster//Event Calendar 2.0//EN
METHOD:PUBLISH
X-PUBLISHED-TTL:P3D
REFRESH-INTERVAL:P3D
CALSCALE:GREGORIAN
BEGIN:VEVENT
DTSTART:20200730T170000Z
DTEND:20200730T180000Z
X-MICROSOFT-CDO-ALLDAYEVENT:FALSE
SUMMARY:Entrepreneurship & Innovation During a Pandemic\, featuring Valerie Jennings
DESCRIPTION:Join us for Entrepreneurship and Innovation During a Pandemic with JSMM CEO Valerie Jennings.\nKey Takeaways \n\n\n	\n	Tips to innovate during a pandemic and recession.\n	\n	\n	See how successful entrepreneurs innovated.\n	\n	\n	How to spot trends and create "reasonable" goals during uncertain times.
X-ALT-DESC;FMTTYPE=text/html:Join us for Entrepreneurship and Innovation During a Pandemic with JSMM CEO Valerie Jennings.\n<p dir="ltr"><strong>Key Takeaways&nbsp\;</strong></p>\n\n<ul>\n	<li dir="ltr">\n	<p dir="ltr" role="presentation">Tips to innovate during a pandemic and recession.</p>\n	</li>\n	<li dir="ltr">\n	<p dir="ltr" role="presentation">See how successful entrepreneurs innovated.</p>\n	</li>\n	<li dir="ltr">\n	<p dir="ltr" role="presentation">How to spot trends and create &ldquo\;reasonable&rdquo\; goals during uncertain times.</p>\n	</li>\n</ul>\n
LOCATION:Zoom Conference Sent prior to the meeting
UID:e.1213.1961
SEQUENCE:3
DTSTAMP:20260419T145930Z
URL:https://business.kckchamber.com/events/details/entrepreneurship-innovation-during-a-pandemic-featuring-valerie-jennings-1961
END:VEVENT

END:VCALENDAR
