BEGIN:VCALENDAR
VERSION:2.0
PRODID:-//ChamberMaster//Event Calendar 2.0//EN
METHOD:PUBLISH
X-PUBLISHED-TTL:P3D
REFRESH-INTERVAL:P3D
CALSCALE:GREGORIAN
BEGIN:VEVENT
DTSTART:20140626T143000Z
DTEND:20140626T163000Z
X-MICROSOFT-CDO-ALLDAYEVENT:FALSE
SUMMARY:Facebook and Social Campaigns
DESCRIPTION:Facebook and Social Campaigns\n\n\n\nIf you want to take your Facebook marketing to the next level\, you'll want to attend this informative seminar. In this class we'll discuss how Facebook works and some best practices for using Facebook. Then we'll show you how to use Constant Contact's powerful new social media tool\, Social Campaigns\, to kick your Facebook marketing up a notch.\n\n	Best practices for social media marketing in general\n	How to navigate Facebook\n	How to get your business on Facebook\n	Content suggestions for posts on Facebook\n	How to increase your posts' interaction on Facebook\n	How to use Social Campaigns to boost your presence on Facebook\n\nThis is NOT a hand-on seminar\, computers are not a requirement.\n\n\n\nKimberly Beer\, Midnight Productions and Constant Contact consultant\, is the presenter.
X-ALT-DESC;FMTTYPE=text/html:<span style="font-size:14px\;"><strong>Facebook and Social Campaigns</strong></span><br />\n<br />\nIf you want to take your Facebook marketing to the next level\, you&#39\;ll want to attend this informative seminar. In this class we&#39\;ll&nbsp\;discuss how Facebook works and some best practices for using Facebook. Then we&#39\;ll show you how to use Constant Contact&#39\;s powerful new social media tool\, Social Campaigns\, to kick your Facebook marketing up a notch.\n<ul>\n	<li>Best practices for social media marketing in general</li>\n	<li>How to navigate Facebook</li>\n	<li>How to get your business on Facebook</li>\n	<li>Content suggestions for posts on Facebook</li>\n	<li>How to increase your posts&#39\; interaction on Facebook</li>\n	<li>How to use Social Campaigns to boost your presence on Facebook</li>\n</ul>\nThis is NOT a hand-on seminar\, computers are not a requirement.<br />\n<br />\nKimberly Beer\, Midnight Productions and Constant Contact consultant\, is the presenter.
LOCATION:KCK Chamber of Commerce 727 Minnesota Kansas City\, Kansas 66101
UID:e.1213.173
SEQUENCE:3
DTSTAMP:20260424T021211Z
URL:https://business.kckchamber.com/events/details/facebook-and-social-campaigns-06-26-2014-173
END:VEVENT

END:VCALENDAR
