BEGIN:VCALENDAR
VERSION:2.0
PRODID:-//ChamberMaster//Event Calendar 2.0//EN
METHOD:PUBLISH
X-PUBLISHED-TTL:P3D
REFRESH-INTERVAL:P3D
CALSCALE:GREGORIAN
BEGIN:VEVENT
DTSTART:20120106T174500Z
DTEND:20120106T190000Z
X-MICROSOFT-CDO-ALLDAYEVENT:FALSE
SUMMARY:First Friday Focus
DESCRIPTION:Join us for our monthly membership luncheon.  Our speaker will be Rachel Hack\, Community Manager for Google.  Reservations are required by calling 913-371-3070 or you can register online.  Cost of the luncheon is $20 for members and $30 for non-members.   No shows will be billed.
X-ALT-DESC;FMTTYPE=text/html:Join us for our monthly membership luncheon.&nbsp\;&nbsp\;Our speaker will be Rachel Hack\, Community Manager for Google.&nbsp\; Reservations are required by&nbsp\;calling 913-371-3070 or you can register online.&nbsp\; Cost of the luncheon is $20 for members and $30 for non-members.&nbsp\;&nbsp\; No shows will be billed.
LOCATION:Cabela's 10300 Cabela Drive Kansas City KS 66111
UID:e.1213.17
SEQUENCE:3
DTSTAMP:20260426T005334Z
URL:https://business.kckchamber.com/events/details/first-friday-focus-01-06-2012-17
END:VEVENT

END:VCALENDAR
