BEGIN:VCALENDAR
VERSION:2.0
PRODID:-//ChamberMaster//Event Calendar 2.0//EN
METHOD:PUBLISH
X-PUBLISHED-TTL:P3D
REFRESH-INTERVAL:P3D
CALSCALE:GREGORIAN
BEGIN:VEVENT
DTSTART:20120309T174500Z
DTEND:20120309T190000Z
X-MICROSOFT-CDO-ALLDAYEVENT:FALSE
SUMMARY:First Friday Focus
DESCRIPTION:Join us for our annual baseball preview luncheon in the Crown Club at Kauffman Stadium.  Reservations are required by calling 913-371-3070 or you can register online.  Cost of the luncheon is $20 for members and $30 for non-members.   No shows will be billed.\n\n\n\nParking is available in Lot M and you can enter the Crown Club at Gate C.  There is some construction around the Kauffman Stadium.  If coming in on I-70 use Gate 1 and if coming in on Stadium Drive enter in the Bus Gate.
X-ALT-DESC;FMTTYPE=text/html:Join us for our&nbsp\;annual baseball preview luncheon in the&nbsp\;<strong>Crown Club </strong>at&nbsp\;Kauffman Stadium. &nbsp\;Reservations are required by&nbsp\;calling 913-371-3070 or you can register online.&nbsp\; Cost of the luncheon is $20 for members and $30 for non-members.&nbsp\;&nbsp\; No shows will be billed.<br />\n<br />\n<span style="color: #ff0000"><strong>Parking is available in Lot M and you can enter&nbsp\;the Crown Club at Gate C.&nbsp\; There is some construction around the Kauffman Stadium.&nbsp\; If coming in on I-70 use Gate&nbsp\;1 and if coming in on Stadium Drive enter in the Bus Gate.&nbsp\; </strong></span>
LOCATION:Kansas City Royals/Kauffman Stadium One Royal Way Kansas City MO 64141
UID:e.1213.28
SEQUENCE:3
DTSTAMP:20260425T195900Z
URL:https://business.kckchamber.com/events/details/first-friday-focus-03-09-2012-28
END:VEVENT

END:VCALENDAR
