BEGIN:VCALENDAR
VERSION:2.0
PRODID:-//ChamberMaster//Event Calendar 2.0//EN
METHOD:PUBLISH
X-PUBLISHED-TTL:P3D
REFRESH-INTERVAL:P3D
CALSCALE:GREGORIAN
BEGIN:VEVENT
DTSTART:20120413T164500Z
DTEND:20120413T180000Z
X-MICROSOFT-CDO-ALLDAYEVENT:FALSE
SUMMARY:First Friday Focus
DESCRIPTION:Join the KCK Chamber for our monthly membership luncheon.  Our speaker will be Dr. Barbara Atkinson who will be giving an update on KU Med's National Cancer Institute designation.  Reservations are required by calling 913-371-3070 or register online.  Cost is $20 for members and $30 for non-members.  No shows will be billed.\n\n\n\nFree parking will be available in Lot #99 off 39th Street just east of the Hemenway Center.  Click here for a map of KU Med Parking
X-ALT-DESC;FMTTYPE=text/html:Join the KCK Chamber for our monthly membership luncheon.&nbsp\; Our speaker will be Dr. Barbara Atkinson who will be giving an update on KU Med&#39\;s National Cancer Institute designation.&nbsp\; Reservations are required by calling 913-371-3070 or register online.&nbsp\; Cost is $20 for members and $30 for non-members.&nbsp\; No shows will be billed.<br />\n<br />\n<span style="color: #ff0000"><strong>Free parking&nbsp\;will be&nbsp\;available in Lot #99 off 39th Street just east of the Hemenway Center.&nbsp\; Click here for a map of <a href="http://cloud.chambermaster.com/userfiles/UserFiles/chambers/1213/File/KUMCParkingLotMap0607101.pdf">KU Med Parking</a></strong></span>
LOCATION:University of Kansas Medical Center Robert Hemenway Life Sciences Innovation Center Beller Conference Center NE corner of 39th and Rainbow Kansas City\, KS
UID:e.1213.23
SEQUENCE:3
DTSTAMP:20260425T195803Z
URL:https://business.kckchamber.com/events/details/first-friday-focus-04-13-2012-23
END:VEVENT

END:VCALENDAR
