BEGIN:VCALENDAR
VERSION:2.0
PRODID:-//ChamberMaster//Event Calendar 2.0//EN
METHOD:PUBLISH
X-PUBLISHED-TTL:P3D
REFRESH-INTERVAL:P3D
CALSCALE:GREGORIAN
BEGIN:VEVENT
DTSTART:20120504T164500Z
DTEND:20120504T180000Z
X-MICROSOFT-CDO-ALLDAYEVENT:FALSE
SUMMARY:First Friday Focus
DESCRIPTION:Join the KCK Chamber for our monthly membership luncheon. Our speaker will be Lori Hewitt from USD 500 talking about the school districts internship program. Reservations are required by calling 913-371-3070 or register online.  Cost is $20 for members and $30 for non-members.  No shows will be billed.
X-ALT-DESC;FMTTYPE=text/html:Join the KCK Chamber for our monthly membership luncheon.&nbsp\;Our&nbsp\;speaker&nbsp\;will be Lori Hewitt from USD 500 talking about the&nbsp\;school districts internship program.&nbsp\;Reservations are required by calling 913-371-3070 or register online.&nbsp\; Cost is $20 for members and $30 for non-members.&nbsp\; No shows will be billed.&nbsp\;
LOCATION:Dave and Buster's 1843 Village West Parkway
UID:e.1213.16
SEQUENCE:3
DTSTAMP:20260425T164535Z
URL:https://business.kckchamber.com/events/details/first-friday-focus-05-04-2012-16
END:VEVENT

END:VCALENDAR
