BEGIN:VCALENDAR
VERSION:2.0
PRODID:-//ChamberMaster//Event Calendar 2.0//EN
METHOD:PUBLISH
X-PUBLISHED-TTL:P3D
REFRESH-INTERVAL:P3D
CALSCALE:GREGORIAN
BEGIN:VEVENT
DTSTART:20111104T164500Z
DTEND:20111104T180000Z
X-MICROSOFT-CDO-ALLDAYEVENT:FALSE
SUMMARY:First Friday Focus 11/4/11
DESCRIPTION:Join us for our monthly membership luncheon.  Our program will be ourt annual basketball preview lunch with Barry Hinson from the University of Kansas\, Rich Zvosec from the Big 12 Network\, John McCarthy from the NAIA\, and Jon Oler from KCK Community College.  Reservations are required by calling 913-371-3070 or you can register online.  Cost of the luncheon is $20 for members and $30 for non-members.   No shows will be billed.
X-ALT-DESC;FMTTYPE=text/html:Join us for our monthly membership luncheon.&nbsp\;&nbsp\;Our program will be ourt annual basketball preview lunch with Barry Hinson from the University of Kansas\, Rich Zvosec from the Big 12 Network\, John McCarthy from the NAIA\, and Jon Oler from KCK Community College.&nbsp\; <strong>Reservations are required </strong>by&nbsp\;calling 913-371-3070 or you can register online.&nbsp\; Cost of the luncheon is $20 for members and $30 for non-members.&nbsp\;&nbsp\; No shows will be billed.
LOCATION:Great Wolf Lodge 10401 Cabela Drive Kansas City\, KS 66111
UID:e.1213.5
SEQUENCE:3
DTSTAMP:20260426T023412Z
URL:https://business.kckchamber.com/events/details/first-friday-focus-11-4-11-11-04-2011-5
END:VEVENT

END:VCALENDAR
