BEGIN:VCALENDAR
VERSION:2.0
PRODID:-//ChamberMaster//Event Calendar 2.0//EN
METHOD:PUBLISH
X-PUBLISHED-TTL:P3D
REFRESH-INTERVAL:P3D
CALSCALE:GREGORIAN
BEGIN:VEVENT
DTSTART:20111202T174500Z
DTEND:20111202T190000Z
X-MICROSOFT-CDO-ALLDAYEVENT:FALSE
SUMMARY:First Friday Focus 12/2/11
DESCRIPTION:Join us for our monthly membership luncheon.  Our speaker will be Dr. Doris Givens\, the new president at Kansas City Kansas Community College.  Reservations are required by calling 913-371-3070 or you can register online at www.kckchamber.com.  Cost of the luncheon is $20 for members and $30 for non-members.   No shows will be billed.
X-ALT-DESC;FMTTYPE=text/html:Join us for our monthly membership luncheon.&nbsp\;&nbsp\;Our speaker will be Dr. Doris Givens\, the new president at Kansas City Kansas Community College.&nbsp\; Reservations are required by&nbsp\;calling 913-371-3070 or you can register online at <a _fcksavedurl="http://www.kckchamber.com" href="http://www.kckchamber.com/"><strong>www.kckchamber.com</strong></a>.&nbsp\; Cost of the luncheon is $20 for members and $30 for non-members.&nbsp\;&nbsp\; No shows will be billed.
LOCATION:Union Station Arthur Stilwell Room 30 W. Pershing Road Kansas City\, MO 64108
UID:e.1213.6
SEQUENCE:3
DTSTAMP:20260426T005543Z
URL:https://business.kckchamber.com/events/details/first-friday-focus-12-2-11-12-02-2011-6
END:VEVENT

END:VCALENDAR
