BEGIN:VCALENDAR
VERSION:2.0
PRODID:-//ChamberMaster//Event Calendar 2.0//EN
METHOD:PUBLISH
X-PUBLISHED-TTL:P3D
REFRESH-INTERVAL:P3D
CALSCALE:GREGORIAN
BEGIN:VEVENT
DTSTART:20120907T164500Z
DTEND:20120907T180000Z
X-MICROSOFT-CDO-ALLDAYEVENT:FALSE
SUMMARY:First Friday Focus 9-7-12
DESCRIPTION:Join us for our monthly membership luncheon. The program will be about the Community College's opportunities for internships. There will be special parking with a shuttle service since school is now in session.  \n\n	\n\n	Reservations are required by calling 913-371-3070 or you can register online. Cost of the luncheon is $20 for members and $30 for non-members. No shows will be billed.
X-ALT-DESC;FMTTYPE=text/html:<div style="color: gray">\n	<span style="color: #000000"><span class="cm_editor_fix">Join us for our monthly membership luncheon. The program will be about the Community College&rsquo\;s opportunities for internships. There will be special parking with a shuttle service since school is now in session.<span style="font-size: 12pt"><span style="font-family: times new roman\, serif">&nbsp\;&nbsp\;</span></span><br />\n	<br />\n	Reservations are required by&nbsp\;calling 913-371-3070 or you can register online. Cost of the luncheon is $20 for members and $30 for non-members. No shows will be billed.</span>&nbsp\;</span><span _fck_bookmark="1" style="display: none">&nbsp\;</span></div>\n
LOCATION:KCK Community College Jewell Center
UID:e.1213.43
SEQUENCE:3
DTSTAMP:20260425T101852Z
URL:https://business.kckchamber.com/events/details/first-friday-focus-9-7-12-09-07-2012-43
END:VEVENT

END:VCALENDAR
