BEGIN:VCALENDAR
VERSION:2.0
PRODID:-//ChamberMaster//Event Calendar 2.0//EN
METHOD:PUBLISH
X-PUBLISHED-TTL:P3D
REFRESH-INTERVAL:P3D
CALSCALE:GREGORIAN
BEGIN:VEVENT
DTSTART:20150403T163000Z
DTEND:20150403T180000Z
X-MICROSOFT-CDO-ALLDAYEVENT:FALSE
SUMMARY:First Friday Focus - April 2015
DESCRIPTION:Get to Know Your Candidates
X-ALT-DESC;FMTTYPE=text/html:<strong>Get to Know Your Candidates</strong><br style="line-height: 20.79px\;" />\n<br />\n<br />\n<br />\n&nbsp\;
LOCATION:Holiday Inn Express at Village West 1931 Prairie Crossing Kansas City\, KS
UID:e.1213.229
SEQUENCE:3
DTSTAMP:20260421T120107Z
URL:https://business.kckchamber.com/events/details/first-friday-focus-april-2015-04-03-2015-229
END:VEVENT

END:VCALENDAR
