BEGIN:VCALENDAR
VERSION:2.0
PRODID:-//ChamberMaster//Event Calendar 2.0//EN
METHOD:PUBLISH
X-PUBLISHED-TTL:P3D
REFRESH-INTERVAL:P3D
CALSCALE:GREGORIAN
BEGIN:VEVENT
DTSTART:20140404T130000Z
DTEND:20140404T180000Z
X-MICROSOFT-CDO-ALLDAYEVENT:FALSE
SUMMARY:First Friday Focus at Innovation Summit
DESCRIPTION:The KCK Chamber will partner with the KCKCC Innovation Summit for the April First Friday Focus. The program includes the State Street Perfect Pitch Competition\, Keynote presentation by Toby Rush of EyeVerify\, breakfast and lunch.\n\n \n\nYou can register online here: http://kansascity.augusoft.net/index.cfm?method=ClassInfo.ClassInformation&int_class_id=11587&int_category_id=0&int_sub_category_id=0&int_catalog_id=0
X-ALT-DESC;FMTTYPE=text/html:The KCK Chamber will&nbsp\;partner with&nbsp\;the&nbsp\;KCKCC Innovation Summit for the April First Friday Focus. The program includes the State Street Perfect Pitch Competition\, Keynote presentation by Toby Rush of EyeVerify\, breakfast and lunch.<br />\n&nbsp\;<br />\nYou can register online here: <a href="http://kansascity.augusoft.net/index.cfm?method=ClassInfo.ClassInformation&amp\;int_class_id=11587&amp\;int_category_id=0&amp\;int_sub_category_id=0&amp\;int_catalog_id=0">http://kansascity.augusoft.net/index.cfm?method=ClassInfo.ClassInformation&amp\;int_class_id=11587&amp\;int_category_id=0&amp\;int_sub_category_id=0&amp\;int_catalog_id=0</a>
LOCATION:Kansas City Kansas Community College Upper Jewell 7250 State Avenue Kansas City\, Kansas
UID:e.1213.122
SEQUENCE:3
DTSTAMP:20260424T053037Z
URL:https://business.kckchamber.com/events/details/first-friday-focus-at-innovation-summit-04-04-2014-122
END:VEVENT

END:VCALENDAR
