BEGIN:VCALENDAR
VERSION:2.0
PRODID:-//ChamberMaster//Event Calendar 2.0//EN
METHOD:PUBLISH
X-PUBLISHED-TTL:P3D
REFRESH-INTERVAL:P3D
CALSCALE:GREGORIAN
BEGIN:VEVENT
DTSTART:20140801T163000Z
DTEND:20140801T183000Z
X-MICROSOFT-CDO-ALLDAYEVENT:FALSE
SUMMARY:First Friday Focus -- August 2014
DESCRIPTION:The Power of Rebranding: The Making of Sporting Kansas City\n\n\n\nIn 2010\, the new owners of the Kansas City Wizards rebranded the team as Sporting Kansas City. Since then\, Sporting Kansas City has been one of the mostsuccessful teams in Major League Soccer. Hear about the rebranding process and why it was necessary.  \n\n\n\nSpeaker: Greg Cotton\, Sporting Kansas City Chief of Staff/General Counsel and KCK Chamber Chair-Elect.\n\n\n\nSpecial Thanks to our Sponsor: Cross-Lines Community Outreach.
X-ALT-DESC;FMTTYPE=text/html:<span style="font-size:16px\;"><strong>The Power of Rebranding: The Making of Sporting Kansas City</strong></span><br />\n<br />\nIn 2010\, the new owners of the Kansas City Wizards rebranded the team as Sporting Kansas City. Since then\, Sporting Kansas City has been one of the mostsuccessful teams in Major League Soccer. Hear about the rebranding process and why it was necessary. &nbsp\;<br />\n<br />\n<span style="font-size:16px\;"><strong>Speaker:</strong></span> Greg Cotton\, Sporting Kansas City Chief of Staff/General Counsel and KCK&nbsp\;Chamber Chair-Elect.<br />\n<br />\nSpecial Thanks to our Sponsor: Cross-Lines Community Outreach.<br />\n&nbsp\;
LOCATION:City View at St. Margaret's 759 Vermont Avenue Kansas City\, Kansas
UID:e.1213.125
SEQUENCE:3
DTSTAMP:20260423T231739Z
URL:https://business.kckchamber.com/events/details/first-friday-focus-august-2014-08-01-2014-125
END:VEVENT

END:VCALENDAR
