BEGIN:VCALENDAR
VERSION:2.0
PRODID:-//ChamberMaster//Event Calendar 2.0//EN
METHOD:PUBLISH
X-PUBLISHED-TTL:P3D
REFRESH-INTERVAL:P3D
CALSCALE:GREGORIAN
BEGIN:VEVENT
DTSTART:20131206T174500Z
DTEND:20131206T190000Z
X-MICROSOFT-CDO-ALLDAYEVENT:FALSE
SUMMARY:First Friday Focus December 2013
DESCRIPTION:We are starting a tradition by having a KCK Chamber Member Holiday Bazaar at the December First Friday Focus. Come ready to shop\, network and celebrate the year. We will also have a few computers set up to demonstrate the ChamberMaster database.\n\n\n\nIf you are interested in a table (no charge)\, please contact Bridget\, 913-748-2303 or bridget@kckchamber.com.
X-ALT-DESC;FMTTYPE=text/html:We are starting a tradition by having a&nbsp\;KCK Chamber Member Holiday Bazaar at the December First Friday Focus. Come ready to shop\, network and celebrate the year. We will also have a few computers set up to demonstrate the ChamberMaster database.<br />\n<br />\nIf you are interested in a table (no charge)\, please contact Bridget\, 913-748-2303 or bridget@kckchamber.com.
LOCATION:Painted Hills Golf Course 7101 Parallel Parkway Kansas City\, Kansas_
UID:e.1213.98
SEQUENCE:3
DTSTAMP:20260424T113614Z
URL:https://business.kckchamber.com/events/details/first-friday-focus-december-2013-12-06-2013-98
END:VEVENT

END:VCALENDAR
