BEGIN:VCALENDAR
VERSION:2.0
PRODID:-//ChamberMaster//Event Calendar 2.0//EN
METHOD:PUBLISH
X-PUBLISHED-TTL:P3D
REFRESH-INTERVAL:P3D
CALSCALE:GREGORIAN
BEGIN:VEVENT
DTSTART:20141205T173000Z
DTEND:20141205T193000Z
X-MICROSOFT-CDO-ALLDAYEVENT:FALSE
SUMMARY:First Friday Focus -- December 2014
DESCRIPTION:Join Monsignor Stuart Swetland\, President of Donnelly College\, at the Chamber's First Friday Focus Membership Meeting\, to learn about exciting new initiatives and future plans for the institution. Swetland currently serves as the seventh President of Donnelly College\, and is also Professor of Leadership and Christian Ethics. In addition\, Swetland will be addressing the importance of community and giving back to those less fortunate this holiday season. \n\n\n\nCancellations must be received 48 hours before the event. No shows and late cancellations will be billed.\n\n\n\nSpecial thanks to our sponsor: Basic Business Products.
X-ALT-DESC;FMTTYPE=text/html:<span style="font-family:arial\,sans-serif\;"><span style="font-size:10.0pt\;">Join Monsignor Stuart Swetland\, President of Donnelly College\, at the Chamber&rsquo\;s First Friday Focus Membership Meeting\, to learn about exciting new initiatives and future plans for the institution. Swetland currently serves as the seventh President of Donnelly College\, and is also Professor of Leadership and Christian Ethics. </span></span><span style="font-family:arial\,sans-serif\;"><span style="font-size:10.0pt\;">In addition\, Swetland will be addressing the importance of community and giving back to those less fortunate this holiday season.&nbsp\;</span></span><br />\n<br />\nCancellations<span style="font-size: 12.8000001907349px\; line-height: 20.7999992370605px\;">&nbsp\;must be received 48 hours before the event. No shows and late cancellations will be billed.</span><br />\n<br />\nSpecial thanks to our sponsor: <a href="http://www.bbpi.net/">Basic Business Products</a>.
LOCATION:Donnelly College - Event Center
UID:e.1213.129
SEQUENCE:3
DTSTAMP:20260423T172215Z
URL:https://business.kckchamber.com/events/details/first-friday-focus-december-2014-12-05-2014-129
END:VEVENT

END:VCALENDAR
