BEGIN:VCALENDAR
VERSION:2.0
PRODID:-//ChamberMaster//Event Calendar 2.0//EN
METHOD:PUBLISH
X-PUBLISHED-TTL:P3D
REFRESH-INTERVAL:P3D
CALSCALE:GREGORIAN
BEGIN:VEVENT
DTSTART:20130201T174500Z
DTEND:20130201T190000Z
X-MICROSOFT-CDO-ALLDAYEVENT:FALSE
SUMMARY:First Friday Focus Feb. 1\, 2013
DESCRIPTION:The Feb. 1 First Friday Focus will feature the KCK Convention & Visitors Bureau. Before you know it\, spring and summer will be here and your out-of-town relatives and friends will be looking for something to do. The CVB can be your best resource. Or if your professional organization or business is considering KCK as a meeting location\, the CVB can help you find meeting locations\, lodging and entertainment activities. And if you haven't heard\, the MLS All Star game is coming to KCK and the CVB is working on that too. And if that is not enough\, Cabela's has their winter clearance sales going on and has new spring merchandise in   Valentine's Day is the holiday in February.
X-ALT-DESC;FMTTYPE=text/html:<p>\n	<span style="font-size: 12pt"><span style="font-family: times new roman\, serif">The Feb. 1 First Friday Focus will feature the KCK Convention &amp\; Visitors Bureau.&nbsp\;Before you know it\, spring and summer will be here and your out-of-town relatives and friends will be looking for something to do. The CVB can be your best resource. Or if your professional organization or business is considering KCK as a meeting location\, the CVB can help you find meeting locations\, lodging and entertainment activities. And if you haven&rsquo\;t heard\, the MLS All Star game is coming to KCK and the CVB is working on that too. And if that is not enough\, Cabela&rsquo\;s has their winter clearance sales going on and has new spring merchandise in &ndash\; Valentine&rsquo\;s Day is the holiday in February.&nbsp\;</span></span><br />\n	&nbsp\;</p>\n
LOCATION:Cabela's 10300 Cabela Drive Kansas City\, KS 66111
UID:e.1213.60
SEQUENCE:3
DTSTAMP:20260425T034350Z
URL:https://business.kckchamber.com/events/details/first-friday-focus-feb-1-2013-02-01-2013-60
END:VEVENT

END:VCALENDAR
