BEGIN:VCALENDAR
VERSION:2.0
PRODID:-//ChamberMaster//Event Calendar 2.0//EN
METHOD:PUBLISH
X-PUBLISHED-TTL:P3D
REFRESH-INTERVAL:P3D
CALSCALE:GREGORIAN
BEGIN:VEVENT
DTSTART:20140207T173000Z
DTEND:20140207T193000Z
X-MICROSOFT-CDO-ALLDAYEVENT:FALSE
SUMMARY:First Friday Focus -- February 2014
DESCRIPTION:Guest Speaker: Nathan Louis Jackson\, award-winning playwright from Kansas City\, Kansas.\n\n\n\nJackson is the recipient of an Andrew W. Mellon Foundation Grant for his playwright residency at Kansas City Repertory Theatre\, which he began July 2013. His play\, When I Come to Die\, will be presented Feb. 14 - March 16 at the Kansas City Repertory Theatre in Kansas City\, Mo.\n\n\n\nJackson has received commissions from both Lincoln Center and Roundabout Theater Company\, participated in the Kennedy Center Summer Playwriting Intensive and attended the Sundance Institute Playwright's Retreat. He has also written for television's "Southland" (NBC)\, "Lights Out" (FX) and "Shameless" (Showtime). Jackson is a two-time winner of the Lorraine Hansberry Playwriting Award\, a recipient of the Mark Twain Comedy Playwriting Award and has been awarded the Kennedy Center's Gold Medallion.
X-ALT-DESC;FMTTYPE=text/html:<strong>Guest Speaker:</strong> Nathan Louis Jackson\, award-winning playwright from Kansas City\, Kansas.<br />\n<br />\nJackson is the recipient of an&nbsp\;Andrew W. Mellon Foundation Grant for his playwright residency at Kansas City Repertory Theatre\, which he&nbsp\;began&nbsp\;July 2013. His play\, <em><strong>When I Come to Die\, </strong></em>will be presented Feb. 14 - March 16 at the Kansas City Repertory Theatre in Kansas City\, Mo.<br />\n<br />\nJackson<span style="font-family: arial"> has received commissions from both Lincoln Center and Roundabout Theater Company\, participated in the Kennedy Center Summer Playwriting Intensive and attended the Sundance Institute Playwright&rsquo\;s Retreat. He has also written for television&#39\;s &quot\;Southland&quot\; (NBC)\, &quot\;Lights Out&quot\; (FX) and &quot\;Shameless&quot\; (Showtime). Jackson is a two-time winner of the Lorraine Hansberry Playwriting Award\, a recipient of the Mark Twain Comedy Playwriting Award and has been awarded the Kennedy Center&rsquo\;s Gold Medallion. </span><br />\n
LOCATION:Cabela's 10300 Cabela Drive Kansas City\, Kansas
UID:e.1213.121
SEQUENCE:3
DTSTAMP:20260424T085502Z
URL:https://business.kckchamber.com/events/details/first-friday-focus-february-2014-02-07-2014-121
END:VEVENT

END:VCALENDAR
