BEGIN:VCALENDAR
VERSION:2.0
PRODID:-//ChamberMaster//Event Calendar 2.0//EN
METHOD:PUBLISH
X-PUBLISHED-TTL:P3D
REFRESH-INTERVAL:P3D
CALSCALE:GREGORIAN
BEGIN:VEVENT
DTSTART:20130111T174500Z
DTEND:20130111T190000Z
X-MICROSOFT-CDO-ALLDAYEVENT:FALSE
SUMMARY:First Friday Focus January 2013
DESCRIPTION:You've probably heard about the Kansas City Startup Village (KCSV)\, because it's been featured in the local and national news lately. But what is it and where is it?\n\n \n\nLearn more about this Kansas City entrepreneur-led initiative at the KCK Area Chamber of Commerce First Friday Focus on Jan. 11. Matthew Marcus and Adam Arredondo\, co founders of Local Ruckus and one of KC Startup Village's founding companies\, will tell you more about the vision to help make Kansas City a premier startup city in America.\n\n \n\nCentered around 45th and State Line Road\, allowing for proximity to Kansas and Missouri businesses\, the "leaders and feeders" of the KC Startup Village are working to create a dense community of startup business. They match startups to available spaces\, offer optional shared offices for reduced costs and to help network with other entrepreneurs\, and provide incentives for startups with Kansas City area businesses. The KCSV is also the location of the first Homes for Hackers house and is based in Google Fiber's first "fiberhood."
X-ALT-DESC;FMTTYPE=text/html:<span style="font-size: 12pt"><span style="font-family: times new roman\, serif">You&rsquo\;ve probably heard about the <strong>Kansas City Startup Village (KCSV)</strong>\, because it&rsquo\;s been featured in the local and national news lately. But what is it and where is it?</span></span><br />\n&nbsp\;<br />\n<span style="font-size: 12pt"><span style="font-family: times new roman\, serif">Learn more about this Kansas City entrepreneur-led initiative at the KCK Area Chamber of Commerce First Friday Focus on Jan. 11. Matthew Marcus and Adam Arredondo\, co founders of Local Ruckus and one of KC Startup Village&rsquo\;s founding companies\, will tell you more about the vision to help make Kansas City a premier startup city in America.</span></span><br />\n&nbsp\;<br />\n<span style="font-size: 12pt"><span style="font-family: times new roman\, serif"><span style="font-family: times new roman">Centered around 45th and State Line Road\, allowing for proximity to Kansas and Missouri businesses\, the &ldquo\;leaders and feeders&rdquo\; of the KC Startup Village are working to create a dense community of startup business. They match startups to available spaces\, offer optional shared offices for reduced costs and to help network with other entrepreneurs\, and provide incentives for startups with Kansas City area businesses. The KCSV is also the location of the first <strong>Homes for Hackers</strong> house and is based in <strong>Google Fiber&rsquo\;s</strong> first &ldquo\;fiberhood.&rdquo\;&nbsp\;&nbsp\;</span></span></span>
LOCATION:Dave and Buster's Kansas City 1843 Village West Pkwy. #201 Kansas City\, Kan. 66111
UID:e.1213.57
SEQUENCE:3
DTSTAMP:20260425T034237Z
URL:https://business.kckchamber.com/events/details/first-friday-focus-january-2013-01-11-2013-57
END:VEVENT

END:VCALENDAR
