BEGIN:VCALENDAR
VERSION:2.0
PRODID:-//ChamberMaster//Event Calendar 2.0//EN
METHOD:PUBLISH
X-PUBLISHED-TTL:P3D
REFRESH-INTERVAL:P3D
CALSCALE:GREGORIAN
BEGIN:VEVENT
DTSTART:20130503T163000Z
DTEND:20130503T180000Z
X-MICROSOFT-CDO-ALLDAYEVENT:FALSE
SUMMARY:First Friday Focus May 2013
DESCRIPTION:The May 3 First Friday Focus will feature Lori Hewitt from USD 500 and Anne Johnston from Prep KC. They will present the school district's student internship program and other opportunities for businesses to connect with students. Internships within the KCK Public Schools include on-the-job internship programs supported by the Career and Technical Education division in Business\, Marketing\, Health Careers and Hospitality. Internships are designed to promote exploration of a field of interest\, exposure to careers and jobs\, and building occupational knowledge and technical skills.
X-ALT-DESC;FMTTYPE=text/html:<span style="font-size: 14px"><span style="font-family: times new roman\, serif">The&nbsp\;May 3 First Friday Focus will feature Lori Hewitt from USD 500 and Anne Johnston from Prep KC.&nbsp\;They will present the&nbsp\;school district&rsquo\;s student internship program and other opportunities for businesses to connect with students. Internships within the KCK Public Schools include on-the-job internship programs supported by the Career and Technical Education division in Business\, Marketing\, Health Careers and Hospitality. Internships are designed to <span style="font-family: times new roman">promote e</span></span><span style="font-family: times new roman"><span style="color: black">xploration of a field of interest\, exposure to careers and jobs\, and building occupational knowledge and technical skills. </span></span></span>
LOCATION:Painted Hills Golf Club 7101 Parallel Parkway Kansas City\, KS 66112 7101 Pa7
UID:e.1213.61
SEQUENCE:3
DTSTAMP:20260424T211956Z
URL:https://business.kckchamber.com/events/details/first-friday-focus-may-2013-05-03-2013-61
END:VEVENT

END:VCALENDAR
