BEGIN:VCALENDAR
VERSION:2.0
PRODID:-//ChamberMaster//Event Calendar 2.0//EN
METHOD:PUBLISH
X-PUBLISHED-TTL:P3D
REFRESH-INTERVAL:P3D
CALSCALE:GREGORIAN
BEGIN:VEVENT
DTSTART:20140502T163000Z
DTEND:20140502T183000Z
X-MICROSOFT-CDO-ALLDAYEVENT:FALSE
SUMMARY:First Friday Focus -- May 2014
DESCRIPTION:A strong K-12 educational system is important to everyone. \n\nUnderstanding the issues can be a challenge\, including the recent Supreme Court ruling and legislation signed into law. Area superintendent panelists will share their thoughts at First Friday Focus.\n\n\n\nPanelists Include:\n\nDr. Cynthia Lane\, USD #500\n\nDr. Michelle Hubbard\, USD #202\n\nMr. David Howard\, USD #458\n\nMr. Tim Conrad\, USD #203\n\nMr. Dan Brungardt\, USD #204
X-ALT-DESC;FMTTYPE=text/html:A strong K-12 educational system is important to everyone.&nbsp\;<br />\nUnderstanding the issues can be a challenge\, including the recent&nbsp\;Supreme Court ruling and legislation signed into law. Area superintendent panelists will share their thoughts at First Friday Focus.<br />\n<br />\n<strong>Panelists Include:</strong><br />\nDr. Cynthia Lane\, USD #500<br />\nDr. Michelle Hubbard\, USD #202<br />\nMr. David Howard\, USD #458<br />\nMr. Tim Conrad\, USD #203<br />\nMr. Dan Brungardt\, USD #204
LOCATION:Holiday Inn Express 1931 Prairie Crossing Kansas City\, Kansas 66111
UID:e.1213.123
SEQUENCE:3
DTSTAMP:20260424T053127Z
URL:https://business.kckchamber.com/events/details/first-friday-focus-may-2014-05-02-2014-123
END:VEVENT

END:VCALENDAR
