BEGIN:VCALENDAR
VERSION:2.0
PRODID:-//ChamberMaster//Event Calendar 2.0//EN
METHOD:PUBLISH
X-PUBLISHED-TTL:P3D
REFRESH-INTERVAL:P3D
CALSCALE:GREGORIAN
BEGIN:VEVENT
DTSTART:20131101T164500Z
DTEND:20131101T180000Z
X-MICROSOFT-CDO-ALLDAYEVENT:FALSE
SUMMARY:First Friday Focus November 2013
DESCRIPTION:College Basketball Preview\n\n\n\nThis First Friday Focus is sponsored by Basic Business Products
X-ALT-DESC;FMTTYPE=text/html:College Basketball Preview<br />\n<br />\nThis First Friday Focus is sponsored by Basic Business Products
LOCATION:Great Wolf Lodge 10401 Cabela Drive Kansas City\, Kansas
UID:e.1213.97
SEQUENCE:3
DTSTAMP:20260424T125011Z
URL:https://business.kckchamber.com/events/details/first-friday-focus-november-2013-11-01-2013-97
END:VEVENT

END:VCALENDAR
