BEGIN:VCALENDAR
VERSION:2.0
PRODID:-//ChamberMaster//Event Calendar 2.0//EN
METHOD:PUBLISH
X-PUBLISHED-TTL:P3D
REFRESH-INTERVAL:P3D
CALSCALE:GREGORIAN
BEGIN:VEVENT
DTSTART:20141107T173000Z
DTEND:20141107T193000Z
X-MICROSOFT-CDO-ALLDAYEVENT:FALSE
SUMMARY:First Friday Focus -- November 2014
DESCRIPTION:Celebrating Entrepreneurship!\n\n\n\nJoin us at the November membership meeting\, First Friday Focus\, as we celebrate entrepreneurship and Global Entrepreneurship Week (Nov. 17-23).\n\n\n\nOur program for the day is a panel of local entrepreneurs and people who provide resources to entrepreneurs.\n\n\n\nEmcee:  Charley Vogt\, Country Club Bank\n\nMichael Dean\,  Agua Fina\n\nJay Matlack\, Tricycle Transit\, Wyandotte Economic Development Council\n\nValerie Mussett\, Design Mechanical\n\nJenny Nepper\, KCSourceLink\n\nElisa Waldman\, Kansas Small Business Development Center
X-ALT-DESC;FMTTYPE=text/html:<span style="font-size:16px\;"><strong>Celebrating Entrepreneurship!</strong></span><br />\n<br />\nJoin us at the November membership meeting\, First Friday Focus\, as we celebrate entrepreneurship and Global Entrepreneurship Week (Nov. 17-23).<br />\n<br />\nOur program for the day is a panel of local entrepreneurs and people who provide resources to entrepreneurs.<br />\n<br />\n<em>Emcee: &nbsp\;Charley Vogt\, Country Club Bank</em><br />\nMichael Dean\, &nbsp\;Agua Fina<br />\nJay Matlack\, Tricycle Transit\, Wyandotte Economic Development Council<br />\nValerie Mussett\, Design Mechanical<br />\nJenny Nepper\, KCSourceLink<br />\nElisa Waldman\, Kansas Small Business Development Center<br />\n<br />\n&nbsp\;
LOCATION:Design Mechanical 100 Greystone Kansas City\, Kansas
UID:e.1213.128
SEQUENCE:3
DTSTAMP:20260423T185742Z
URL:https://business.kckchamber.com/events/details/first-friday-focus-november-2014-11-07-2014-128
END:VEVENT

END:VCALENDAR
