BEGIN:VCALENDAR
VERSION:2.0
PRODID:-//ChamberMaster//Event Calendar 2.0//EN
METHOD:PUBLISH
X-PUBLISHED-TTL:P3D
REFRESH-INTERVAL:P3D
CALSCALE:GREGORIAN
BEGIN:VEVENT
DTSTART:20151106T173000Z
DTEND:20151106T173000Z
X-MICROSOFT-CDO-ALLDAYEVENT:FALSE
SUMMARY:First Friday Focus - November 2015
DESCRIPTION:Bart Hickey\, Chairman of The Greater KC Restaurant Association\, 2014 KC Restauranteur of the Year\, and Managing Partner of Seasons 52 since 2014 and The Capital Grille since 2003-2014 will share his experiences in the KC Restaurant Industry and talk about trends in customer service\, legislative issues facing the service industry\, and different approaches to connect your business with your local community.\n\n\n\nJoin us at Great Wolf Lodge for our November Lunch and Learn\, your chance to hear Bart Hickey and network with other chamber members\n\n\n\nThanks to Design Mechanical\, Inc. for sponsoring this KCK Chamber Event.
X-ALT-DESC;FMTTYPE=text/html:Bart Hickey\, Chairman of The Greater KC Restaurant Association\, 2014 KC Restauranteur of the Year\, and Managing Partner of Seasons 52 since 2014 and The Capital Grille since 2003-2014 will share his experiences in the KC Restaurant Industry and talk about trends in customer service\, legislative issues facing the service industry\, and different approaches to connect your business with your local community.<br />\n<br />\nJoin us <span style="font-size: 12.7272720336914px\; line-height: 18.9090900421143px\;">at Great Wolf Lodge&nbsp\;</span>for our November Lunch and Learn\, your chance to hear Bart Hickey and&nbsp\;network with other chamber members<br />\n<br />\n<strong style="font-size: 12.7272720336914px\; line-height: 18.9090900421143px\;"><span style="font-size: 16px\;"><span style="color: rgb(34\, 34\, 34)\; line-height: 18.9090900421143px\;">Thanks to Design Mechanical\, Inc. for sponsoring this KCK Chamber Event.</span></span></strong><br />\n<br style="line-height: 20.79px\;" />\n<br />\n<br />\n<br />\n&nbsp\;
LOCATION:Thanks to Design Mechanical\, Inc. for sponsoring this KCK Chamber Event. Great Wolf Lodge 10401 Cabela Dr\, Kansas City\, KS 66111 913-299-7001
UID:e.1213.280
SEQUENCE:3
DTSTAMP:20260420T231049Z
URL:https://business.kckchamber.com/events/details/first-friday-focus-november-2015-11-06-2015-280
END:VEVENT

END:VCALENDAR
