BEGIN:VCALENDAR
VERSION:2.0
PRODID:-//ChamberMaster//Event Calendar 2.0//EN
METHOD:PUBLISH
X-PUBLISHED-TTL:P3D
REFRESH-INTERVAL:P3D
CALSCALE:GREGORIAN
BEGIN:VEVENT
DTSTART:20131004T164500Z
DTEND:20131004T180000Z
X-MICROSOFT-CDO-ALLDAYEVENT:FALSE
SUMMARY:First Friday Focus October 2013
DESCRIPTION:What is KCSourceLink? It's a resource for you! KCSourceLink's mission is to help small businesses in the 18-county Kansas City region - from Warrensburg to Topeka\, from St. Joseph to Osawatomie - grow and succeed. They provide small business with free\, easy access to the help you need - when you need it.\n\n\n\nLearn more about the resources available at the October First Friday Focus. For more information about KCSourceLink\, visit http://www.kcsourcelink.com/.
X-ALT-DESC;FMTTYPE=text/html:What is KCSourceLink? It&#39\;s a resource for you! KCSourceLink&#39\;s mission is to help small businesses in the 18-county Kansas City region - from Warrensburg to Topeka\, from St. Joseph to Osawatomie - grow and succeed. They&nbsp\;provide small business with free\, easy access to the help you need - when you need it.<br />\n<br />\nLearn more about the resources available at the October First Friday Focus. For more information about KCSourceLink\, visit <a href="http://www.kcsourcelink.com/">http://www.kcsourcelink.com/</a>.
LOCATION:Argosy Casino - Tuscany Room 777 NW Argosy Parkway Riverside\, MO 64150
UID:e.1213.94
SEQUENCE:3
DTSTAMP:20260424T140319Z
URL:https://business.kckchamber.com/events/details/first-friday-focus-october-2013-10-04-2013-94
END:VEVENT

END:VCALENDAR
