BEGIN:VCALENDAR
VERSION:2.0
PRODID:-//ChamberMaster//Event Calendar 2.0//EN
METHOD:PUBLISH
X-PUBLISHED-TTL:P3D
REFRESH-INTERVAL:P3D
CALSCALE:GREGORIAN
BEGIN:VEVENT
DTSTART:20141003T163000Z
DTEND:20141003T183000Z
X-MICROSOFT-CDO-ALLDAYEVENT:FALSE
SUMMARY:First Friday Focus -- October 2014
DESCRIPTION:College Basketball Preview\n\n\n\nKelley Newton\, KCK Community College Men's Basketball Head Coach\n\nKareem Richardson\, UMKC Men's Basketball Head Coach\n\nFred Quartlebaum\, KU Men's Basketball Student-Athlete Development Director\n\nEric Olson and Mac Stephenson\, NAIA\n\nJosh Klingler\, KMBZ\n\n\n\nThanks to our sponsor: Alphapointe
X-ALT-DESC;FMTTYPE=text/html:<strong>College Basketball Preview</strong><br />\n<br />\nKelley Newton\, KCK Community College Men&#39\;s Basketball Head Coach<br />\nKareem Richardson\, UMKC&nbsp\;Men&#39\;s Basketball Head Coach<br />\nFred Quartlebaum\, KU Men&#39\;s Basketball Student-Athlete Development Director<br />\nEric Olson and Mac Stephenson\, NAIA<br />\nJosh Klingler\, KMBZ<br />\n<br />\nThanks to our sponsor: <a href="http://www.alphapointe.org/">Alphapointe</a><br />\n&nbsp\;
LOCATION:Great Wolf Lodge 10401 Cabela Drive Kansas City\, KS 66111
UID:e.1213.127
SEQUENCE:3
DTSTAMP:20260423T220548Z
URL:https://business.kckchamber.com/events/details/first-friday-focus-october-2014-10-03-2014-127
END:VEVENT

END:VCALENDAR
