BEGIN:VCALENDAR
VERSION:2.0
PRODID:-//ChamberMaster//Event Calendar 2.0//EN
METHOD:PUBLISH
X-PUBLISHED-TTL:P3D
REFRESH-INTERVAL:P3D
CALSCALE:GREGORIAN
BEGIN:VEVENT
DTSTART:20130906T164500Z
DTEND:20130906T180000Z
X-MICROSOFT-CDO-ALLDAYEVENT:FALSE
SUMMARY:First Friday Focus September 2013
DESCRIPTION:Learn more about the MOKAN Take Charge Challenge\, coordinated locally by the Kansas City Board of Public Utilities\, which runs Aug. 1\, 2013\, through Jan. 31\, 2014. It includes the Kansas cities of Hutchinson\; Hays\; Kansas City\, Kan. and Warrensburg\, Mo. Kansas City\, Kansas currently has one business enrolled in the challenge\, but can accept more.\n\n \n\nThe Challenge runs over an eight-month period\, giving participants suitable time to complete activities and make important changes related to energy efficiency and conservation. The MOKAN Challenge builds upon the success of the Kansas Challenge\, which ran in 2009. The registration process for participating organizations is quick and easy\, and is handled entirely by the challenge website http://www.takechargechallenge.com/. For more information about the program\, contact Patrice Townsend at BPU\, ptownsend@bpu.com.\n\n\n\nThis First Friday Focus is sponsored by Kansas City Board of Public Utilities.
X-ALT-DESC;FMTTYPE=text/html:<span style="font-size: 14px"><span style="font-family: times new roman\, serif">Learn more about the MOKAN Take Charge Challenge\, coordinated locally by the Kansas City Board of Public Utilities\, which runs <span style="color: black">Aug. 1\, 2013\, through Jan. 31\, 2014. It includes the Kansas cities of Hutchinson\; Hays\; Kansas City\, Kan. and Warrensburg\, Mo. Kansas City\, Kansas currently has one business enrolled in the challenge\, but can accept more.</span></span><br />\n&nbsp\;<br />\n<span style="font-family: times new roman\, serif">The Challenge runs over an eight-month period\, giving participants suitable time to complete activities and make important changes related to energy efficiency and conservation. The MOKAN Challenge builds upon the success of the Kansas Challenge\, which ran in 2009. The registration process for participating organizations is quick and easy\, and is handled entirely by the challenge website </span><a href="http://www.takechargechallenge.com/"><span style="color: #800080">http://www.takechargechallenge.com/</span></a>.<span style="font-family: times new roman"> For more information about the program\, contact Patrice Townsend at BPU\, <span style="color: navy"><a href="mailto:ptownsend@bpu.com">ptownsend@bpu.com</a>.</span></span></span><br />\n<br />\n<span style="font-size: 14px"><span style="font-family: times new roman\, serif">This First Friday Focus is sponsored by Kansas City Board of Public Utilities.</span></span><br />\n<br />\n
LOCATION:Kansas City Kansas Public School District Central Office 2010 N. 59th St. Room 132 Kansas City\, Kansas
UID:e.1213.88
SEQUENCE:3
DTSTAMP:20260424T155204Z
URL:https://business.kckchamber.com/events/details/first-friday-focus-september-2013-09-06-2013-88
END:VEVENT

END:VCALENDAR
