BEGIN:VCALENDAR
VERSION:2.0
PRODID:-//ChamberMaster//Event Calendar 2.0//EN
METHOD:PUBLISH
X-PUBLISHED-TTL:P3D
REFRESH-INTERVAL:P3D
CALSCALE:GREGORIAN
BEGIN:VEVENT
DTSTART:20140905T163000Z
DTEND:20140905T183000Z
X-MICROSOFT-CDO-ALLDAYEVENT:FALSE
SUMMARY:First Friday Focus -- September 2014
DESCRIPTION:How to make a mini city four times a year.\n\nSpeaker: Pat Warren\, Kansas Speedway President\n\n\n\nKansas Speedway is host to some of the most exciting events in motorsports. On NASCAR Race Weekend\, the Speedway becomes the 6th largest city in Kansas. Learn what it takes to make this happen at the September membership meeting First Friday Focus.\n\n\n\nSpecial thanks to our sponsor Hollywood Casino at Kansas Speedway.
X-ALT-DESC;FMTTYPE=text/html:<span style="font-size:16px\;"><b><i>How to make a mini city four times a year.</i></b></span><br />\nSpeaker: Pat Warren\, <a href="http://www.kansasspeedway.com/?homepage=true">Kansas Speedway</a> President<br />\n<br />\nKansas Speedway is host to some of the most exciting events in motorsports. On NASCAR Race Weekend\, the Speedway becomes the 6th largest city in Kansas. Learn what it takes to make this happen at the September membership meeting First Friday Focus.<br />\n<br />\nSpecial thanks to our sponsor <a href="http://www.hollywoodcasinokansas.com/">Hollywood Casino at Kansas Speedway</a>.
LOCATION:Hollywood Casino Stars Room in Epic Buffet 777 Hollywood Casino Blvd. Kansas City\, KS 66111
UID:e.1213.126
SEQUENCE:3
DTSTAMP:20260423T220554Z
URL:https://business.kckchamber.com/events/details/first-friday-focus-september-2014-09-05-2014-126
END:VEVENT

END:VCALENDAR
