BEGIN:VCALENDAR
VERSION:2.0
PRODID:-//ChamberMaster//Event Calendar 2.0//EN
METHOD:PUBLISH
X-PUBLISHED-TTL:P3D
REFRESH-INTERVAL:P3D
CALSCALE:GREGORIAN
BEGIN:VEVENT
DTSTART:20150904T163000Z
DTEND:20150904T180000Z
X-MICROSOFT-CDO-ALLDAYEVENT:FALSE
SUMMARY:First Friday Focus - September 2015
DESCRIPTION:Featured Presentation:\n\nMike Scott\, President AT&T Kansas\n\nAT&T Mobility Team\n\nAT&T Business Fiber Team\n\n \n\nAT&T Inc. (NYSE:T) helps millions around the globe connect with leading entertainment\, mobile\, high speed Internet and voice services. We're the world's largest provider of pay TV. We have TV customers in the U.S. and 11 Latin American countries. In the U.S.\, our wireless network offers the nation's strongest LTE signal and the most reliable 4G LTE network. We offer the best global wireless coverage. And we help businesses worldwide serve their customers better with our mobility and secure cloud solutions.
X-ALT-DESC;FMTTYPE=text/html:<strong>Featured Presentation:</strong><br />\nMike Scott\, President AT&amp\;T Kansas<br />\nAT&amp\;T Mobility Team<br />\nAT&amp\;T Business Fiber Team<br />\n&nbsp\;<br />\nAT&amp\;T Inc. (NYSE:T) helps millions around the globe connect with leading entertainment\, mobile\, high speed Internet and voice services. We&rsquo\;re the world&rsquo\;s largest provider of pay TV. We have TV customers in the U.S. and 11 Latin American countries. In the U.S.\, our wireless network offers the nation&rsquo\;s strongest LTE signal and the most reliable 4G LTE network. We offer the best global wireless coverage. And we help businesses worldwide serve their customers better with our mobility and secure cloud solutions.
LOCATION:Hollywood Casino 777 Hollywood Casino Blvd\, Kansas City\, KS 66111
UID:e.1213.268
SEQUENCE:3
DTSTAMP:20260421T022130Z
URL:https://business.kckchamber.com/events/details/first-friday-focus-september-2015-09-04-2015-268
END:VEVENT

END:VCALENDAR
