BEGIN:VCALENDAR
VERSION:2.0
PRODID:-//ChamberMaster//Event Calendar 2.0//EN
METHOD:PUBLISH
X-PUBLISHED-TTL:P3D
REFRESH-INTERVAL:P3D
CALSCALE:GREGORIAN
BEGIN:VEVENT
DTSTART:20170222T230000Z
DTEND:20170223T003000Z
X-MICROSOFT-CDO-ALLDAYEVENT:FALSE
SUMMARY:Free Social Media Seminar with Lycke Consulting
DESCRIPTION:Lycke Consulting is teaming up with the KCK Chamber of Commerce to offer a free social media seminar. Join us  on February 22nd for drinks and light hor de' oeuvres and learn how to get involved with the KCK Chamber and other businesses through interactions on Facebook\, Instagram\, Twitter\, Google+\, and Linkedin. Build a strong online community!
X-ALT-DESC;FMTTYPE=text/html:<span style="font-size:12px\;"><span style="font-family:arial\;">Lycke&nbsp\;Consulting is teaming up with the KCK Chamber of Commerce to offer a free social media seminar. Join us &nbsp\;on February&nbsp\;22nd&nbsp\;for drinks and light hor de&#39\; oeuvres&nbsp\;and learn how to get involved with the KCK Chamber and other businesses through interactions on Facebook\, Instagram\, Twitter\, Google+\, and Linkedin. Build a strong online community!</span></span>
LOCATION:KCK Chamber 727 Minnesota Ave. Kansas City\, KS 66101
UID:e.1213.497
SEQUENCE:3
DTSTAMP:20260419T231244Z
URL:https://business.kckchamber.com/events/details/free-social-media-seminar-with-lycke-consulting-497
END:VEVENT

END:VCALENDAR
