BEGIN:VCALENDAR
VERSION:2.0
PRODID:-//ChamberMaster//Event Calendar 2.0//EN
METHOD:PUBLISH
X-PUBLISHED-TTL:P3D
REFRESH-INTERVAL:P3D
CALSCALE:GREGORIAN
BEGIN:VEVENT
DTSTART:20130425T140000Z
DTEND:20130425T200000Z
X-MICROSOFT-CDO-ALLDAYEVENT:FALSE
SUMMARY:Get Your Business Online with Google
DESCRIPTION:Take your business from offline to online. Google will provide guidance on how to build a free website\, register a domain name and create an online business listing. They will also cover tools to help increase your online exposure.\n\n\n\nThere will be an English and a Spanish event.
X-ALT-DESC;FMTTYPE=text/html:Take your business from offline to online. Google will provide guidance on how to build a free website\, register a domain name and create an online business listing. They will also cover tools to help increase your online exposure.<br />\n<br />\nThere will be an English and a Spanish event.
LOCATION:Sporing Park 1 Sporting Way Kansas City\, KS 66111
UID:e.1213.76
SEQUENCE:3
DTSTAMP:20260425T003009Z
URL:https://business.kckchamber.com/events/details/get-your-business-online-with-google-04-25-2013-76
END:VEVENT

END:VCALENDAR
