BEGIN:VCALENDAR
VERSION:2.0
PRODID:-//ChamberMaster//Event Calendar 2.0//EN
METHOD:PUBLISH
X-PUBLISHED-TTL:P3D
REFRESH-INTERVAL:P3D
CALSCALE:GREGORIAN
BEGIN:VEVENT
DTSTART:20140730T143000Z
DTEND:20140730T163000Z
X-MICROSOFT-CDO-ALLDAYEVENT:FALSE
SUMMARY:Getting Started with Constant Contact Toolkit
DESCRIPTION:You want to implement an email marketing campaign into your marketing plan\, but don't know what to do or where to start? You have heard of Constant Contact but not sure what it does? Maybe you have Constant Contact\, but don't know how to use it. If you have these questions and want to learn more   this seminar is for you.\n\n \n\nThis seminar will help you create your first email campaign   we'll provide tips\, techniques and strategies to you while we guide you through the tools and features in Constant Contact. This seminar is great for beginners that want \n\nto know how to start creating an email marketing campaign for their business or non-profit.\n\n \n\nYou will learn how to:\n\n \n\n  Create your first email in Constant Contact\n\n  Work with graphics (import\, size\, and link)\n\n  Add\, edit and format text\n\n  Insert attachments\, YouTube\, social media buttons\n\n  Modify your email template (color\, blocks\, and spell check)\n\n  Add or Import your contacts or customer names\n\n  Schedule and send your email\n\n  Learn how to setup your email to help you go and grow your social\n\n\n\nNOTE: This is NOT a hands-on computer seminar. No computers are needed.\n\n\n\nKimberly Beer\, Midnight Productions\, is the presenter.\n\n\n\nBring your business cards!
X-ALT-DESC;FMTTYPE=text/html:<span style="font-family:arial\,sans-serif\;"><span style="font-size:9.0pt\;">You want to implement an email marketing campaign into your marketing plan\, but don&rsquo\;t know what to do or where to start? You have heard of Constant Contact&nbsp\;but not sure what it does? Maybe you have Constant Contact\, but don&rsquo\;t know&nbsp\;how to use it. If you have these questions and want to learn more &mdash\; this seminar&nbsp\;is for you.</span></span><br />\n&nbsp\;<br />\n<span style="font-family:arial\,sans-serif\;"><span style="font-size:9.0pt\;">This seminar will help you create your first email campaign &mdash\; we&#39\;ll provide tips\,&nbsp\;techniques and strategies to you while we guide you through the tools and&nbsp\;features in Constant Contact. This seminar is great for beginners that want&nbsp\;</span></span><br />\n<span style="font-family:arial\,sans-serif\;"><span style="font-size:9.0pt\;">to know how to start creating an email marketing campaign for their business&nbsp\;or non-profit.</span></span><br />\n&nbsp\;<br />\n<span style="font-family:arial\,sans-serif\;"><span style="font-size:9.0pt\;">You will learn how to:</span></span><br />\n&nbsp\;<br />\n<span style="font-family:arial\,sans-serif\;"><span style="font-size:9.0pt\;">&bull\; Create your first email in Constant Contact</span></span><br />\n<span style="font-family:arial\,sans-serif\;"><span style="font-size:9.0pt\;">&bull\; Work with graphics (import\, size\, and link)</span></span><br />\n<span style="font-family:arial\,sans-serif\;"><span style="font-size:9.0pt\;">&bull\; Add\, edit and format text</span></span><br />\n<span style="font-family:arial\,sans-serif\;"><span style="font-size:9.0pt\;">&bull\; Insert attachments\, YouTube\, social media buttons</span></span><br />\n<span style="font-family:arial\,sans-serif\;"><span style="font-size:9.0pt\;">&bull\; Modify your email template (color\, blocks\, and spell check)</span></span><br />\n<span style="font-family:arial\,sans-serif\;"><span style="font-size:9.0pt\;">&bull\; Add or Import your contacts or customer names</span></span><br />\n<span style="font-family:arial\,sans-serif\;"><span style="font-size:9.0pt\;">&bull\; Schedule and send your email</span></span><br />\n<span style="font-family:arial\,sans-serif\;"><span style="font-size:9.0pt\;">&bull\; Learn how to setup your email to help you go and grow your social</span></span><br />\n<br />\n<span style="font-family:arial\,sans-serif\;"><span style="font-size:9.0pt\;">NOTE: This is NOT a hands-on computer seminar. No computers are needed.<br />\n<br />\nKimberly Beer\, Midnight Productions\, is the presenter.<br />\n<br />\nBring your business cards!</span></span>
LOCATION:Kansas City Kansas Area Chamber of Commerce 727 Minnesota Kansas City\, KS 66101
UID:e.1213.178
SEQUENCE:3
DTSTAMP:20260424T020837Z
URL:https://business.kckchamber.com/events/details/getting-started-with-constant-contact-toolkit-07-30-2014-178
END:VEVENT

END:VCALENDAR
