BEGIN:VCALENDAR
VERSION:2.0
PRODID:-//ChamberMaster//Event Calendar 2.0//EN
METHOD:PUBLISH
X-PUBLISHED-TTL:P3D
REFRESH-INTERVAL:P3D
CALSCALE:GREGORIAN
BEGIN:VEVENT
DTSTART:20151115T143000Z
DTEND:20151115T160000Z
X-MICROSOFT-CDO-ALLDAYEVENT:FALSE
SUMMARY:Getting to Know Your KCK Chamber- December 2015
DESCRIPTION:Get to Know Your KCK Chamber!\n\nAs a member of the business community in the metropolitan area\, the mission of the Kansas City Kansas Area Chamber of Commerce is to enhance and create opportunities in Wyandotte County which build a quality community to live\, work and conduct business.
X-ALT-DESC;FMTTYPE=text/html:Get to Know Your KCK Chamber!<br />\n<span style="color: rgb(0\, 0\, 0)\; font-family: arial\; font-size: 14px\; line-height: 22.3999996185303px\;">As a member of the business community in the metropolitan area\, the mission of the Kansas City Kansas Area Chamber of Commerce is to enhance and create opportunities in Wyandotte County which build a quality community to live\, work and conduct business.</span><br />\n<br />\n&nbsp\;
LOCATION:Country Club Bank\, Village West 11006 Parallel Parkway Kansas City\, KS 66109
UID:e.1213.271
SEQUENCE:3
DTSTAMP:20260420T231708Z
URL:https://business.kckchamber.com/events/details/getting-to-know-your-kck-chamber-december-2015-11-15-2015-271
END:VEVENT

END:VCALENDAR
