BEGIN:VCALENDAR
VERSION:2.0
PRODID:-//ChamberMaster//Event Calendar 2.0//EN
METHOD:PUBLISH
X-PUBLISHED-TTL:P3D
REFRESH-INTERVAL:P3D
CALSCALE:GREGORIAN
BEGIN:VEVENT
DTSTART;VALUE=DATE:20131113
DTEND;VALUE=DATE:20131125
TRANSP:TRANSPARENT
X-MICROSOFT-CDO-ALLDAYEVENT:TRUE
SUMMARY:Global Entrerpreneurship Week 2013
DESCRIPTION:Global Entrepreneurship Week celebrates the innovators and job creators who launch startups that bring ideas to life\, drive economic growth and expand human welfare.\n\n\n\nJoin us in Kansas City this November for events that will inspire\, engage ad connect entrepreneurs with the collaborators\, mentors and resources to help them succeed.
X-ALT-DESC;FMTTYPE=text/html:Global Entrepreneurship Week celebrates the innovators and job creators who launch startups that bring ideas to life\, drive economic growth and expand human welfare.<br />\n<br />\nJoin us in Kansas City this November for events that will inspire\, engage ad connect entrepreneurs with the collaborators\, mentors and resources to help them succeed.
LOCATION:Many events are scheduled throughout the Kansas City Metropolitan Area. Check the website for events. http://www.kcsourcelink.com/gew-kc/gew-kc-calendar-of-events
UID:e.1213.111
SEQUENCE:3
DTSTAMP:20260424T125201Z
URL:https://business.kckchamber.com/events/details/global-entrerpreneurship-week-2013-11-13-2013-111
END:VEVENT

END:VCALENDAR
