BEGIN:VCALENDAR
VERSION:2.0
PRODID:-//ChamberMaster//Event Calendar 2.0//EN
METHOD:PUBLISH
X-PUBLISHED-TTL:P3D
REFRESH-INTERVAL:P3D
CALSCALE:GREGORIAN
BEGIN:VEVENT
DTSTART:20140709T120000Z
DTEND:20140710T000000Z
X-MICROSOFT-CDO-ALLDAYEVENT:FALSE
SUMMARY:Golf Tournament 2014
DESCRIPTION:Golf Tournament\n\n\n\nMorning and Afternoon Flight\n\n\n\nTeam & Sponsorship Information:\n\nIndividual Golfer -  $175 / Team of Four -  $700\n\nEvent Sponsor - $1\,500\n\nBreakfast\, Lunch or Reception Sponsor - $1\,000\n\nHole Sponsor - $200\n\nCart Sponsor - $50\n\nGolf Guarantee - $20 each
X-ALT-DESC;FMTTYPE=text/html:<strong>Golf Tournament</strong><br />\n<br />\nMorning and Afternoon Flight<br />\n<br />\n<span style="font-size:18px\;"><strong>Team &amp\; Sponsorship Information:</strong></span><br />\n<em><strong>Individual Golfer</strong></em> - &nbsp\;$175 /&nbsp\;Team of Four - &nbsp\;$700<br />\n<em><strong>Event Sponsor</strong></em> - $1\,500<br />\n<em><strong>Breakfast\, Lunch or Reception Sponsor</strong></em> - $1\,000<br />\n<em><strong>Hole Sponsor</strong></em> - $200<br />\n<em><strong>Cart Sponsor</strong></em> - $50<br />\n<em><strong>Golf Guarantee</strong></em> - $20 each<br />\n<br />\n&nbsp\;
LOCATION:Painted Hills Golf Course 7101 Parallel Parkway Kansas City\, Kansas 66112
UID:e.1213.158
SEQUENCE:3
DTSTAMP:20260424T005851Z
URL:https://business.kckchamber.com/events/details/golf-tournament-2014-07-09-2014-158
END:VEVENT

END:VCALENDAR
