BEGIN:VCALENDAR
VERSION:2.0
PRODID:-//ChamberMaster//Event Calendar 2.0//EN
METHOD:PUBLISH
X-PUBLISHED-TTL:P3D
REFRESH-INTERVAL:P3D
CALSCALE:GREGORIAN
BEGIN:VEVENT
DTSTART:20120508T170000Z
DTEND:20120508T190000Z
X-MICROSOFT-CDO-ALLDAYEVENT:FALSE
SUMMARY:Google for Small Businesses 101
DESCRIPTION:Google and the KCK Chamber invite you to attend this FREE program to teach small businesses (25 or less employees) how to get online and offers a preview to Google small business products.  Space is LIMITED to 35 so RESERVATIONS MUST BE MADE by calling the KCK Chamber at 913-371-3070 or via email: receptionist@kckchamber.com by Monday\, May 8\, 2012.
X-ALT-DESC;FMTTYPE=text/html:Google and the KCK Chamber invite you to attend this FREE program to teach small businesses (25 or less employees) how to get online and offers a preview to Google small business products. &nbsp\;Space is LIMITED to 35 so RESERVATIONS MUST BE MADE by calling the KCK&nbsp\;Chamber at 913-371-3070 or via email: receptionist@kckchamber.com by Monday\, May 8\, 2012.
LOCATION:West Wyandotte Library Auditorium 1737 N. 82nd Street Kansas City\, KS
UID:e.1213.39
SEQUENCE:3
DTSTAMP:20260425T164846Z
URL:https://business.kckchamber.com/events/details/google-for-small-businesses-101-05-08-2012-39
END:VEVENT

END:VCALENDAR
