BEGIN:VCALENDAR
VERSION:2.0
PRODID:-//ChamberMaster//Event Calendar 2.0//EN
METHOD:PUBLISH
X-PUBLISHED-TTL:P3D
REFRESH-INTERVAL:P3D
CALSCALE:GREGORIAN
BEGIN:VEVENT
DTSTART:20140521T210000Z
DTEND:20140521T230000Z
X-MICROSOFT-CDO-ALLDAYEVENT:FALSE
SUMMARY:Grand Opening Ceremony & Ribbon Cutting: 39Rainbow Project
DESCRIPTION:You are invited to the Phase II Grand Opening Ceremony and Ribbon Cutting for the 39Rainbow Project on May 21. You can tour the entire development including The University of Kansas Hospital Acute Rehabilitation Unit and The Kansas City Transitional Care Center from 4:00 p.m.   6:00 p.m. The ceremony will begin at 4:30 p.m. The address is 3910 Rainbow Blvd\, Kansas City\, Kan. Surface parking is available directly behind the Phase II Building.
X-ALT-DESC;FMTTYPE=text/html:<span style="color:black\;"><span style="font-family:times new roman\,serif\;"><span style="font-size:12.0pt\;">You are invited to the Phase II Grand Opening Ceremony and Ribbon Cutting for the 39Rainbow Project on May 21. You can tour the entire development including The University of Kansas Hospital Acute Rehabilitation Unit and The Kansas City Transitional Care Center from 4:00 p.m. &ndash\; 6:00 p.m. The ceremony will begin at 4:30 p.m. The address is 3910 Rainbow Blvd\, Kansas City\, Kan. Surface parking is available directly behind the Phase II Building.&nbsp\;</span></span></span>
LOCATION:3910 Rainbow Blvd. Kansas City\, Kansas 66160 Surface parking is available directly behind the Phase II Building
UID:e.1213.174
SEQUENCE:3
DTSTAMP:20260424T035432Z
URL:https://business.kckchamber.com/events/details/grand-opening-ceremony-ribbon-cutting-39rainbow-project-05-21-2014-174
END:VEVENT

END:VCALENDAR
