BEGIN:VCALENDAR
VERSION:2.0
PRODID:-//ChamberMaster//Event Calendar 2.0//EN
METHOD:PUBLISH
X-PUBLISHED-TTL:P3D
REFRESH-INTERVAL:P3D
CALSCALE:GREGORIAN
BEGIN:VEVENT
DTSTART:20130919T230000Z
DTEND:20130920T010000Z
X-MICROSOFT-CDO-ALLDAYEVENT:FALSE
SUMMARY:Grand Opening & Ribbon Cutting
DESCRIPTION:Join Country Place Senior Living in Basehor for their Grand Opening and Ribbon Cutting.\n\n\n\nWine\, hors d'oeuvres and non-alcoholic refreshments will be served. Staff members will be available for guided tours of the new residence.
X-ALT-DESC;FMTTYPE=text/html:Join Country Place Senior Living in Basehor for their Grand Opening and Ribbon Cutting.<br />\n<br />\nWine\, hors d&#39\;oeuvres and non-alcoholic refreshments will be served. Staff members will be available for guided tours of the new residence.
LOCATION:Country Place Senior Living 15707 Pinehurst Drive Basehor\, Kansas
UID:e.1213.99
SEQUENCE:3
DTSTAMP:20260424T155338Z
URL:https://business.kckchamber.com/events/details/grand-opening-ribbon-cutting-09-19-2013-99
END:VEVENT

END:VCALENDAR
