BEGIN:VCALENDAR
VERSION:2.0
PRODID:-//ChamberMaster//Event Calendar 2.0//EN
METHOD:PUBLISH
X-PUBLISHED-TTL:P3D
REFRESH-INTERVAL:P3D
CALSCALE:GREGORIAN
BEGIN:VEVENT
DTSTART:20120918T123000Z
DTEND:20120918T140000Z
X-MICROSOFT-CDO-ALLDAYEVENT:FALSE
SUMMARY:Green Up! Save Up!
DESCRIPTION:This Business Solution Series seminar is about how to operate in a more environmentally friendly way while saving money. The Business Solution Series is presented by Kansas City Kansas Community College\, Wyandotte Economic Development Council\, Unified Government and the KCK Chamber of Commerce.
X-ALT-DESC;FMTTYPE=text/html:<div style="color: gray">\n	<span style="font-size: medium"><span style="font-size: 12pt"><span style="font-family: times new roman\, serif"><span style="font-size: medium"><span style="font-size: 12pt"><span style="font-family: times new roman\, serif">This <strong><em>Business Solution Series</em></strong> seminar is about how to operate in a more environmentally friendly way while saving money. </span></span></span><span style="font-family: times new roman\, serif"><span style="font-size: medium">The Business Solution Series is presented by Kansas City Kansas Community College\, Wyandotte Economic Development Council\, Unified Government and the KCK Chamber of Commerce.&nbsp\;</span></span></span></span></span><br />\n	&nbsp\;</div>\n
LOCATION:225 Cherokee Street\, Room 17 Leavenworth\, Kan.
UID:e.1213.45
SEQUENCE:3
DTSTAMP:20260425T113618Z
URL:https://business.kckchamber.com/events/details/green-up-save-up-09-18-2012-45
END:VEVENT

END:VCALENDAR
