BEGIN:VCALENDAR
VERSION:2.0
PRODID:-//ChamberMaster//Event Calendar 2.0//EN
METHOD:PUBLISH
X-PUBLISHED-TTL:P3D
REFRESH-INTERVAL:P3D
CALSCALE:GREGORIAN
BEGIN:VEVENT
DTSTART:20140709T143000Z
DTEND:20140709T153000Z
X-MICROSOFT-CDO-ALLDAYEVENT:FALSE
SUMMARY:Groundbreaking Ceremony -- Village West Luxury Apartments Phase II
DESCRIPTION:Northpoint Development invites you to experience the next phase of the Village West Luxury Apartments at a Groundbreaking Ceremony.\n\n\n\nPlease RSVP to April Binfet at 913-721-3500 or april@villagewestluxuryapts.com.
X-ALT-DESC;FMTTYPE=text/html:Northpoint Development invites you to experience the next phase of the Village West Luxury Apartments at a Groundbreaking Ceremony.<br />\n<br />\nPlease RSVP to April Binfet at 913-721-3500 or april@villagewestluxuryapts.com.<br />\n<br />\n&nbsp\;
LOCATION:Village West Luxury Apartments 11024 Delaware Parkway Kansas City\, KS 66109
UID:e.1213.177
SEQUENCE:3
DTSTAMP:20260424T004453Z
URL:https://business.kckchamber.com/events/details/groundbreaking-ceremony-village-west-luxury-apartments-phase-ii-07-09-2014-177
END:VEVENT

END:VCALENDAR
