BEGIN:VCALENDAR
VERSION:2.0
PRODID:-//ChamberMaster//Event Calendar 2.0//EN
METHOD:PUBLISH
X-PUBLISHED-TTL:P3D
REFRESH-INTERVAL:P3D
CALSCALE:GREGORIAN
BEGIN:VEVENT
DTSTART:20140129T153000Z
DTEND:20140129T173000Z
X-MICROSOFT-CDO-ALLDAYEVENT:FALSE
SUMMARY:Grow Your Business With Social Media & Email Marketing
DESCRIPTION:We are teaming up with Constant Contact for the "Grow Your Business With Social Media & Email Marketing" workshop from 9:30 a.m.   11:30 a.m. on Jan. 29 at the KCK Chamber\, 727 Minnesota. The cost is one Business Card.\n\n\n\nIn this seminar you will learn real life examples on how businesses are using email and social media marketing to grow their business\, referrals\, results revenues and reach\; how to save time\, money and energy by providing you social and email marketing best practices\, tips and strategies that will get you real results\; and how to use free tools that can help you manage\, market and monitor your marketing success. Kimberly Beer\, Midnight Productions\, Inc.\, is the presenter. This is not a hands-on seminar. You do not need a computer.\n\n\n\nYou can register online here: http://events.r20.constantcontact.com/register/event?oeidk=a07e8sfwg5o7a9513bc&llr=zotg6ojab.
X-ALT-DESC;FMTTYPE=text/html:<span style="font-family: arial"><span style="font-size: 12px"><span style="color: black">We are teaming up with Constant Contact for the &ldquo\;Grow Your Business With Social Media &amp\; Email Marketing&rdquo\; workshop from 9:30 a.m. &ndash\; 11:30 a.m. on Jan. 29 at the KCK Chamber\, 727 Minnesota. The cost is one Business Card.<br />\n<br />\nIn this seminar you will learn real life examples on how businesses are using email and social media marketing to grow their business\, referrals\, results revenues and reach\; how to save time\, money and energy by providing you social and email marketing best practices\, tips and strategies that will get you real results\; and how to use free tools that can help you manage\, market and monitor your marketing success. Kimberly Beer\, Midnight Productions\, Inc.\, is the presenter. This is not a hands-on seminar. You do not need a computer.<br />\n<br />\nYou can register online here: </span><a href="http://events.r20.constantcontact.com/register/event?oeidk=a07e8sfwg5o7a9513bc&amp\;llr=zotg6ojab"><span style="color: #800080">http://events.r20.constantcontact.com/register/event?oeidk=a07e8sfwg5o7a9513bc&amp\;llr=zotg6ojab</span></a><span style="color: black">.</span></span></span><br />\n
LOCATION:KCK Chamber of Commerce 727 Minnesota Kansas City\, Kansas
UID:e.1213.139
SEQUENCE:3
DTSTAMP:20260424T102531Z
URL:https://business.kckchamber.com/events/details/grow-your-business-with-social-media-email-marketing-01-29-2014-139
END:VEVENT

END:VCALENDAR
