BEGIN:VCALENDAR
VERSION:2.0
PRODID:-//ChamberMaster//Event Calendar 2.0//EN
METHOD:PUBLISH
X-PUBLISHED-TTL:P3D
REFRESH-INTERVAL:P3D
CALSCALE:GREGORIAN
BEGIN:VEVENT
DTSTART:20241007T203000Z
DTEND:20241007T223000Z
X-MICROSOFT-CDO-ALLDAYEVENT:FALSE
SUMMARY:Homefield Baseball Fields Ribbon Cutting
DESCRIPTION:Step up to the plate and join us for a celebratory ribbon cutting at the new Homefield Baseball Field! In partnership with the Bonner Springs-Edwardsville Chamber\, we'll be adding a dash of fun to the event with an exciting "Swing for the Fence". Whether you're at bat or cheering from the stands\, this is an event you won't want to miss. Come celebrate\, connect with the community\, and enjoy an afternoon of friendly competition and excitement!
X-ALT-DESC;FMTTYPE=text/html:Step up to the plate and join us for a celebratory ribbon cutting at the new <strong>Homefield Baseball Field</strong>! In partnership with the <strong>Bonner Springs-Edwardsville Chamber</strong>\, we&rsquo\;ll be adding a dash of fun to the event with an exciting <b>&quot\;Swing for the Fence&quot\;</b>. Whether you&#39\;re at bat or cheering from the stands\, this is an event you won&rsquo\;t want to miss. Come celebrate\, connect with the community\, and enjoy an afternoon of friendly competition and excitement!
LOCATION:Homefield Baseball Field 1501 N 90th St Kansas City\, KS
UID:e.1213.2592
SEQUENCE:3
DTSTAMP:20260424T171510Z
URL:https://business.kckchamber.com/events/details/homefield-baseball-fields-ribbon-cutting-2592
END:VEVENT

END:VCALENDAR
